BEGIN:VCALENDAR
VERSION:2.0
PRODID:-//PCD Foundation - ECPv6.15.11//NONSGML v1.0//EN
CALSCALE:GREGORIAN
METHOD:PUBLISH
X-ORIGINAL-URL:https://www.pcdfoundation.org
X-WR-CALDESC:Events for PCD Foundation
REFRESH-INTERVAL;VALUE=DURATION:PT1H
X-Robots-Tag:noindex
X-PUBLISHED-TTL:PT1H
BEGIN:VTIMEZONE
TZID:UTC
BEGIN:STANDARD
TZOFFSETFROM:+0000
TZOFFSETTO:+0000
TZNAME:UTC
DTSTART:20250101T000000
END:STANDARD
END:VTIMEZONE
BEGIN:VEVENT
DTSTART;VALUE=DATE:20260819
DTEND;VALUE=DATE:20260823
DTSTAMP:20260424T081417
CREATED:20250925T181025Z
LAST-MODIFIED:20260423T180314Z
UID:789-1787097600-1787443199@www.pcdfoundation.org
SUMMARY:Global PCD Conference
DESCRIPTION:Registration Now Open!\n\n\n\nAugust 19 – 22\, 2026Le Centre Sheraton Montreal HotelMontreal\, Canada \n\n\n\nRegistration is now open for the inaugural Global PCD Conference—a premier international event focused on the science and clinical care of PCD. The conference will bring together researchers\, clinicals\, patients and advocacy groups from around the world to advance discovery\, collaboration and innovation in PCD. \n\n\n\nExplore the full program and secure your spot today!
URL:https://www.pcdfoundation.org/event/global-pcd-conference/
ATTACH;FMTTYPE=image/png:https://www.pcdfoundation.org/wp-content/uploads/2025/09/radial.png
END:VEVENT
BEGIN:VEVENT
DTSTART;TZID=UTC:20261016T000000
DTEND;TZID=UTC:20261016T235959
DTSTAMP:20260424T081417
CREATED:20260423T181205Z
LAST-MODIFIED:20260423T181206Z
UID:937-1792108800-1792195199@www.pcdfoundation.org
SUMMARY:An Evening to Ignite Hope
DESCRIPTION:Save the Date! \n\n\n\nPCD Foundation: An Evening to Ignite HopeFriday\, October 16\, 2026Pepper Family Wildlife Center at Lincoln Park ZooChicago\, Illinois 60614 \n\n\n\nMore details coming soon!
URL:https://www.pcdfoundation.org/event/an-evening-to-ignite-hope/
END:VEVENT
END:VCALENDAR